{"text_format":"1","workbook":"xlsx","n_sheets":6,"sheets":["予定表","全体記録","レコード","業務日誌","個別記録","全体記録 (2)"],"not_rendered":{"charts":0,"images":0,"macros":1,"external_links":0,"defined_names":5,"comments":0,"pivot_tables":0},"unopened":[],"bounds":{"document_bytes":16777216,"sheet_cells":100000,"rows_first":2000,"rows_last":500,"rows_between":2000,"halvings":0,"cell_chars":16384,"cell_head_chars":4096},"cells_cut":0,"cells_raw":0,"read":"whole","date_system":"1900"}

{"sheet":"予定表","index":0,"n_rows":61,"n_cols":10,"rows_kept":61,"cut":false,"hidden":false,"merged":[[0,2,1,4]]}
[null,null,"週　間　利　用　予　定　表",null,null,"令和5年2月"]
[null,null,null,null,null,null,null,null,null,"利用者リスト"]
[null,"月","火","水","木","金"]
[1,"フルネーム",null,null,null,null,null,null,null,"フルネーム"]
[null,"自由欄"]
[null,"自由欄"]
[2]
[]
[]
[3]
[]
[]
[4]
[]
[]
[5]
[]
[]
[6]
[]
[]
[7]
[]
[]
[8]
[]
[]
[9]
[]
[]
[10]
[]
[]
[11]
[]
[]
[12]
[]
[]
[13]
[]
[]
[14]
[]
[]
[15]
[]
[]
[16]
[]
[]
[17]
[]
[]
[18]
[]
[]
[19]
[]
[]
[20]

{"sheet":"全体記録","index":1,"n_rows":71,"n_cols":28,"rows_kept":71,"cut":false,"hidden":false,"merged":[[54,5,54,6],[54,7,56,7],[54,8,56,8],[55,5,56,6],[57,1,59,2],[57,5,57,6],[57,7,59,7],[57,8,59,8],[58,5,59,6],[0,1,0,8],[4,1,4,8],[5,2,5,6],[6,1,7,1],[6,2,6,6],[12,5,12,6],[6,7,9,7],[6,8,9,8],[7,2,7,6],[9,2,9,6],[15,8,17,8],[12,1,14,2],[12,7,14,7],[12,8,14,8],[11,4,11,6],[11,1,11,2],[15,5,15,6],[13,5,14,6],[16,5,17,6],[15,7,17,7],[3,4,3,5],[39,5,39,6],[36,5,36,6],[36,1,38,2],[15,1,17,2],[18,5,18,6],[8,1,9,1],[8,2,8,6],[33,4,35,4],[12,4,14,4],[18,8,20,8],[21,1,23,2],[21,7,23,7],[21,8,23,8],[22,5,23,6],[21,5,21,6],[19,5,20,6],[18,1,20,2],[18,7,20,7],[24,8,26,8],[25,5,26,6],[27,1,29,2],[27,7,29,7],[27,8,29,8],[28,5,29,6],[24,5,24,6],[27,5,27,6],[24,1,26,2],[24,7,26,7],[30,7,32,7],[30,8,32,8],[31,5,32,6],[33,1,35,2],[33,7,35,7],[33,8,35,8],[34,5,35,6],[30,5,30,6],[33,5,33,6],[30,1,32,2],[36,7,38,7],[36,8,38,8],[37,5,38,6],[39,1,41,2],[39,7,41,7],[39,8,41,8],[40,5,41,6],[36,4,38,4],[39,4,41,4],[42,7,44,7],[42,8,44,8],[43,5,44,6],[45,1,47,2],[45,7,47,7],[45,8,47,8],[46,5,47,6],[42,5,42,6],[45,5,45,6],[42,4,44,4],[51,7,53,7],[51,8,53,8],[52,5,53,6],[51,5,51,6],[48,5,48,6],[48,4,50,4],[51,4,53,4],[1,6,1,7],[60,1,62,2],[60,5,60,6],[60,7,62,7],[60,8,62,8],[61,5,62,6],[48,1,50,2],[48,7,50,7],[48,8,50,8],[49,5,50,6],[66,5,66,6],[66,7,68,7],[66,8,68,8],[67,5,68,6],[63,4,65,4],[66,4,68,4],[69,5,69,6],[69,7,71,7],[69,8,71,8],[70,5,71,6],[63,1,65,2],[63,5,63,6],[63,7,65,7],[63,8,65,8],[64,5,65,6],[66,1,68,2],[45,4,47,4],[60,4,62,4],[69,1,71,2],[51,1,53,2],[42,1,44,2],[54,1,56,2],[69,4,71,4],[54,4,56,4],[57,4,59,4],[15,4,17,4],[18,4,20,4],[21,4,23,4],[24,4,26,4],[27,4,29,4],[30,4,32,4]]}
[null,"支　援　記　録　(　全　体　）"]
[null,{"$f":"\"通所者数：　\"&\"　 \"&COUNTIF(L13:L60,1)&\"　名               欠席者数： 　\"&\"  \"&COUNTIF(L13:L60,2)+COUNTIF(L13:L60,3)&\"　名\"","v":"通所者数：　　 1　名               欠席者数： 　  0　名"},null,null,null,null,"2023-02-03",null,"月",{"$f":"\"自動　\"&LEFT(TEXT(G2,\"aaaa\"),1)","v":"自動　金"}]
[null,null,null,null,{"$f":"\"   (内欠席対応：  \"&\"\"&COUNTIF(L13:L60,3)&\"  名)\"","v":"   (内欠席対応：  0  名)"}]
[]
[null,"業務日誌"]
[null,null,"支援内容",null,null,null,null,"記録者","捺印",null,null,null,null,null,null,null,null,null,null,null,null,null,{"$f":"$G$2","v":"2023-02-03"},{"$f":"B13","v":"フルネーム"},{"$f":"F13","v":"株式会社トワイライトアース２　駅弁の仕分け"},{"$f":"F14","v":"吾輩わがはいは猫である。名前はまだ無い。\nどこで生れたかとんと見当けんとうがつかぬ。何でも薄暗いじめじめした所でニャーニャー泣いていた事だけは記憶している。吾輩はここで始めて人間というものを見た。しかもあとで聞くとそれは書生という人間中で一番獰悪どうあくな種族であったそうだ。"},{"$f":"L14","v":1},{"$f":"IF(AA6=1,\"通常\",IF(AA6=2,\"欠席\",IF(AA6=3,\"欠席対応\",\"\")))","v":"通常"}]
[null,"特記事項",null,null,null,null,null,null,null,null,null,null,null,null,null,null,null,null,null,null,null,null,{"$f":"$G$2","v":"2023-02-03"},{"$f":"B16","v":""},{"$f":"F16","v":0},{"$f":"F17","v":0},{"$f":"L17","v":0},""]
[null,null,null,null,null,null,null,null,null,null,null,null,null,null,null,null,null,null,null,null,null,null,"2023-02-03",{"$f":"B19","v":""},{"$f":"F19","v":0},{"$f":"F20","v":0},{"$f":"L20","v":0},""]
[null,"連絡事項",null,null,null,null,null,null,null,null,null,null,null,null,null,null,null,null,null,null,null,null,"2023-02-03",{"$f":"B22","v":""},{"$f":"F22","v":0},{"$f":"F23","v":0},{"$f":"L23","v":0},""]
[null,null,null,null,null,null,null,null,null,null,null,null,null,null,null,null,null,null,null,null,null,null,"2023-02-03",{"$f":"B25","v":""},{"$f":"F25","v":0},{"$f":"F26","v":0},{"$f":"L26","v":0},""]
[null,null,null,null,null,null,null,null,null,null,null,null,null,null,null,null,null,null,null,null,null,null,"2023-02-03",{"$f":"B28","v":""},{"$f":"F28","v":0},{"$f":"F29","v":0},{"$f":"L29","v":0},""]
[null,"利用者名",null,"利用状況","考察",null,null,"記録者","捺印",null,"↓利用状況のチェックを外す場合",null,null,null,null,null,null,null,null,null,null,null,"2023-02-03",{"$f":"B31","v":""},{"$f":"F31","v":0},{"$f":"F32","v":0},{"$f":"L32","v":0},""]
[null,{"$f":"IFERROR(IF(HLOOKUP($I$2,予定表!$B$3:$F$79,2,FALSE)=\"\",\"\",HLOOKUP($I$2,予定表!$B$3:$F$79,2,FALSE)),\"\")","v":"フルネーム"},null,null,null,"株式会社トワイライトアース２　駅弁の仕分け",null,null,null,null,null,null,null,null,null,null,null,null,null,null,null,null,"2023-02-03",{"$f":"B34","v":""},{"$f":"F34","v":0},{"$f":"F35","v":0},{"$f":"L35","v":0},""]
[null,null,null,null,null,"吾輩わがはいは猫である。名前はまだ無い。\nどこで生れたかとんと見当けんとうがつかぬ。何でも薄暗いじめじめした所でニャーニャー泣いていた事だけは記憶している。吾輩はここで始めて人間というものを見た。しかもあとで聞くとそれは書生という人間中で一番獰悪どうあくな種族であったそうだ。",null,null,null,null,1,{"$f":"IF(B13=\"\",0,K14)","v":1},{"$f":"IF(N14=\"\",0,1)","v":1},{"$f":"IF(L14=1,B13,\"\")","v":"フルネーム"},{"$f":"IF(P14=\"\",0,1)","v":0},{"$f":"IF(L14=0,\"\",IF(L14=1,\"\",B13))","v":""},null,1,{"$f":"IFERROR(VLOOKUP(R14,$M$14:$N$71,2,FALSE),\"\")","v":"フルネーム"},null,1,{"$f":"IFERROR(VLOOKUP(U14,$O$14:$P$71,2,FALSE),\"\")","v":""},"2023-02-03",{"$f":"B37","v":""},{"$f":"F37","v":0},{"$f":"F38","v":0},{"$f":"L38","v":0},""]
[null,null,null,null,null,null,null,null,null,null,null,null,null,null,null,null,null,2,"",null,2,"","2023-02-03",{"$f":"B40","v":""},{"$f":"F40","v":0},{"$f":"F41","v":0},{"$f":"L41","v":0},""]
[null,{"$f":"IFERROR(IF(HLOOKUP($I$2,予定表!$B$3:$F$79,5,FALSE)=\"\",\"\",HLOOKUP($I$2,予定表!$B$3:$F$79,5,FALSE)),\"\")","v":""},null,null,null,null,null,null,null,null,null,null,null,null,null,null,null,3,"",null,3,"","2023-02-03",{"$f":"B43","v":""},{"$f":"F43","v":0},{"$f":"F44","v":0},{"$f":"L44","v":0},""]
[null,null,null,null,null,null,null,null,null,null,1,{"$f":"IF(B16=\"\",0,K17)","v":0},{"$f":"IF(N17=\"\",M14,M14+1)","v":1},{"$f":"IF(L17=1,B16,\"\")","v":""},{"$f":"IF(P17=\"\",O14,O14+1)","v":0},{"$f":"IF(L17=0,\"\",IF(L17=1,\"\",B16))","v":""},null,4,"",null,4,"","2023-02-03",{"$f":"B46","v":""},{"$f":"F46","v":0},{"$f":"F47","v":0},{"$f":"L47","v":0},""]
[null,null,null,null,null,null,null,null,null,null,null,null,null,null,null,null,null,5,"",null,5,"","2023-02-03",{"$f":"B49","v":""},{"$f":"F49","v":0},{"$f":"F50","v":0},{"$f":"L50","v":0},""]
[null,{"$f":"IFERROR(IF(HLOOKUP($I$2,予定表!$B$3:$F$79,8,FALSE)=\"\",\"\",HLOOKUP($I$2,予定表!$B$3:$F$79,8,FALSE)),\"\")","v":""},null,null,null,null,null,null,null,null,null,null,null,null,null,null,null,6,"",null,6,"","2023-02-03",{"$f":"B52","v":""},{"$f":"F52","v":0},{"$f":"F53","v":0},{"$f":"L53","v":0},""]
[null,null,null,null,null,null,null,null,null,null,1,{"$f":"IF(B19=\"\",0,K20)","v":0},{"$f":"IF(N20=\"\",M17,M17+1)","v":1},{"$f":"IF(L20=1,B19,\"\")","v":""},{"$f":"IF(P20=\"\",O17,O17+1)","v":0},{"$f":"IF(L20=0,\"\",IF(L20=1,\"\",B19))","v":""},null,7,"",null,7,"","2023-02-03",{"$f":"B55","v":""},{"$f":"F55","v":0},{"$f":"F56","v":0},{"$f":"L56","v":0},""]
[null,null,null,null,null,null,null,null,null,null,null,null,null,null,null,null,null,8,"",null,8,"","2023-02-03",{"$f":"B58","v":""},{"$f":"F58","v":0},{"$f":"F59","v":0},{"$f":"L59","v":0},""]
[null,{"$f":"IFERROR(IF(HLOOKUP($I$2,予定表!$B$3:$F$79,11,FALSE)=\"\",\"\",HLOOKUP($I$2,予定表!$B$3:$F$79,11,FALSE)),\"\")","v":""},null,null,null,null,null,null,null,null,null,null,null,null,null,null,null,9,"",null,9,"","2023-02-03",{"$f":"B61","v":""},{"$f":"F61","v":0},{"$f":"F62","v":0},{"$f":"L62","v":0},""]
[null,null,null,null,null,null,null,null,null,null,1,{"$f":"IF(B22=\"\",0,K23)","v":0},{"$f":"IF(N23=\"\",M20,M20+1)","v":1},{"$f":"IF(L23=1,B22,\"\")","v":""},{"$f":"IF(P23=\"\",O20,O20+1)","v":0},{"$f":"IF(L23=0,\"\",IF(L23=1,\"\",B22))","v":""},null,10,"",null,10,"","2023-02-03",{"$f":"B64","v":""},{"$f":"F64","v":0},{"$f":"F65","v":0},{"$f":"L65","v":0},""]
[null,null,null,null,null,null,null,null,null,null,null,null,null,null,null,null,null,11,"",null,11,"","2023-02-03",{"$f":"B67","v":""},{"$f":"F67","v":0},{"$f":"F68","v":0},{"$f":"L68","v":0},""]
[null,{"$f":"IFERROR(IF(HLOOKUP($I$2,予定表!$B$3:$F$79,14,FALSE)=\"\",\"\",HLOOKUP($I$2,予定表!$B$3:$F$79,14,FALSE)),\"\")","v":""},null,null,null,null,null,null,null,null,null,null,null,null,null,null,null,12,"",null,12,"","2023-02-03",{"$f":"B70","v":""},{"$f":"F70","v":0},{"$f":"F71","v":0},{"$f":"L71","v":0},""]
[null,null,null,null,null,null,null,null,null,null,1,{"$f":"IF(B25=\"\",0,K26)","v":0},{"$f":"IF(N26=\"\",M23,M23+1)","v":1},{"$f":"IF(L26=1,B25,\"\")","v":""},{"$f":"IF(P26=\"\",O23,O23+1)","v":0},{"$f":"IF(L26=0,\"\",IF(L26=1,\"\",B25))","v":""},null,13,"",null,13,""]
[null,null,null,null,null,null,null,null,null,null,null,null,null,null,null,null,null,14,"",null,14,""]
[null,{"$f":"IFERROR(IF(HLOOKUP($I$2,予定表!$B$3:$F$79,17,FALSE)=\"\",\"\",HLOOKUP($I$2,予定表!$B$3:$F$79,17,FALSE)),\"\")","v":""},null,null,null,null,null,null,null,null,null,null,null,null,null,null,null,15,"",null,15,""]
[null,null,null,null,null,null,null,null,null,null,1,{"$f":"IF(B28=\"\",0,K29)","v":0},{"$f":"IF(N29=\"\",M26,M26+1)","v":1},{"$f":"IF(L29=1,B28,\"\")","v":""},{"$f":"IF(P29=\"\",O26,O26+1)","v":0},{"$f":"IF(L29=0,\"\",IF(L29=1,\"\",B28))","v":""},null,16,"",null,16,""]
[null,null,null,null,null,null,null,null,null,null,null,null,null,null,null,null,null,17,"",null,17,""]
[null,{"$f":"IFERROR(IF(HLOOKUP($I$2,予定表!$B$3:$F$79,20,FALSE)=\"\",\"\",HLOOKUP($I$2,予定表!$B$3:$F$79,20,FALSE)),\"\")","v":""},null,null,null,null,null,null,null,null,null,null,null,null,null,null,null,18,"",null,18,""]
[null,null,null,null,null,null,null,null,null,null,1,{"$f":"IF(B31=\"\",0,K32)","v":0},{"$f":"IF(N32=\"\",M29,M29+1)","v":1},{"$f":"IF(L32=1,B31,\"\")","v":""},{"$f":"IF(P32=\"\",O29,O29+1)","v":0},{"$f":"IF(L32=0,\"\",IF(L32=1,\"\",B31))","v":""},null,19,"",null,19,""]
[null,null,null,null,null,null,null,null,null,null,null,null,null,null,null,null,null,20,"",null,20,""]
[null,{"$f":"IFERROR(IF(HLOOKUP($I$2,予定表!$B$3:$F$79,23,FALSE)=\"\",\"\",HLOOKUP($I$2,予定表!$B$3:$F$79,23,FALSE)),\"\")","v":""}]
[null,null,null,null,null,null,null,null,null,null,1,{"$f":"IF(B34=\"\",0,K35)","v":0},{"$f":"IF(N35=\"\",M32,M32+1)","v":1},{"$f":"IF(L35=1,B34,\"\")","v":""},{"$f":"IF(P35=\"\",O32,O32+1)","v":0},{"$f":"IF(L35=0,\"\",IF(L35=1,\"\",B34))","v":""}]
[]
[null,{"$f":"IFERROR(IF(HLOOKUP($I$2,予定表!$B$3:$F$79,26,FALSE)=\"\",\"\",HLOOKUP($I$2,予定表!$B$3:$F$79,26,FALSE)),\"\")","v":""}]
[null,null,null,null,null,null,null,null,null,null,0,{"$f":"IF(B37=\"\",0,K38)","v":0},{"$f":"IF(N38=\"\",M35,M35+1)","v":1},{"$f":"IF(L38=1,B37,\"\")","v":""},{"$f":"IF(P38=\"\",O35,O35+1)","v":0},{"$f":"IF(L38=0,\"\",IF(L38=1,\"\",B37))","v":""}]
[]
[null,{"$f":"IFERROR(IF(HLOOKUP($I$2,予定表!$B$3:$F$79,29,FALSE)=\"\",\"\",HLOOKUP($I$2,予定表!$B$3:$F$79,29,FALSE)),\"\")","v":""}]
[null,null,null,null,null,null,null,null,null,null,0,{"$f":"IF(B40=\"\",0,K41)","v":0},{"$f":"IF(N41=\"\",M38,M38+1)","v":1},{"$f":"IF(L41=1,B40,\"\")","v":""},{"$f":"IF(P41=\"\",O38,O38+1)","v":0},{"$f":"IF(L41=0,\"\",IF(L41=1,\"\",B40))","v":""}]
[]
[null,{"$f":"IFERROR(IF(HLOOKUP($I$2,予定表!$B$3:$F$79,32,FALSE)=\"\",\"\",HLOOKUP($I$2,予定表!$B$3:$F$79,32,FALSE)),\"\")","v":""}]
[null,null,null,null,null,null,null,null,null,null,0,{"$f":"IF(B43=\"\",0,K44)","v":0},{"$f":"IF(N44=\"\",M41,M41+1)","v":1},{"$f":"IF(L44=1,B43,\"\")","v":""},{"$f":"IF(P44=\"\",O41,O41+1)","v":0},{"$f":"IF(L44=0,\"\",IF(L44=1,\"\",B43))","v":""}]
[]
[null,{"$f":"IFERROR(IF(HLOOKUP($I$2,予定表!$B$3:$F$79,35,FALSE)=\"\",\"\",HLOOKUP($I$2,予定表!$B$3:$F$79,35,FALSE)),\"\")","v":""}]
[null,null,null,null,null,null,null,null,null,null,0,{"$f":"IF(B46=\"\",0,K47)","v":0},{"$f":"IF(N47=\"\",M44,M44+1)","v":1},{"$f":"IF(L47=1,B46,\"\")","v":""},{"$f":"IF(P47=\"\",O44,O44+1)","v":0},{"$f":"IF(L47=0,\"\",IF(L47=1,\"\",B46))","v":""}]
[]
[null,{"$f":"IFERROR(IF(HLOOKUP($I$2,予定表!$B$3:$F$79,38,FALSE)=\"\",\"\",HLOOKUP($I$2,予定表!$B$3:$F$79,38,FALSE)),\"\")","v":""}]
[null,null,null,null,null,null,null,null,null,null,0,{"$f":"IF(B49=\"\",0,K50)","v":0},{"$f":"IF(N50=\"\",M47,M47+1)","v":1},{"$f":"IF(L50=1,B49,\"\")","v":""},{"$f":"IF(P50=\"\",O47,O47+1)","v":0},{"$f":"IF(L50=0,\"\",IF(L50=1,\"\",B49))","v":""}]
[]
[null,{"$f":"IFERROR(IF(HLOOKUP($I$2,予定表!$B$3:$F$79,41,FALSE)=\"\",\"\",HLOOKUP($I$2,予定表!$B$3:$F$79,41,FALSE)),\"\")","v":""}]
[null,null,null,null,null,null,null,null,null,null,0,{"$f":"IF(B52=\"\",0,K53)","v":0},{"$f":"IF(N53=\"\",M50,M50+1)","v":1},{"$f":"IF(L53=1,B52,\"\")","v":""},{"$f":"IF(P53=\"\",O50,O50+1)","v":0},{"$f":"IF(L53=0,\"\",IF(L53=1,\"\",B52))","v":""}]
[]
[null,{"$f":"IFERROR(IF(HLOOKUP($I$2,予定表!$B$3:$F$79,44,FALSE)=\"\",\"\",HLOOKUP($I$2,予定表!$B$3:$F$79,44,FALSE)),\"\")","v":""}]
[null,null,null,null,null,null,null,null,null,null,0,{"$f":"IF(B55=\"\",0,K56)","v":0},{"$f":"IF(N56=\"\",M53,M53+1)","v":1},{"$f":"IF(L56=1,B55,\"\")","v":""},{"$f":"IF(P56=\"\",O53,O53+1)","v":0},{"$f":"IF(L56=0,\"\",IF(L56=1,\"\",B55))","v":""}]
[]
[null,{"$f":"IFERROR(IF(HLOOKUP($I$2,予定表!$B$3:$F$79,47,FALSE)=\"\",\"\",HLOOKUP($I$2,予定表!$B$3:$F$79,47,FALSE)),\"\")","v":""}]
[null,null,null,null,null,null,null,null,null,null,0,{"$f":"IF(B58=\"\",0,K59)","v":0},{"$f":"IF(N59=\"\",M56,M56+1)","v":1},{"$f":"IF(L59=1,B58,\"\")","v":""},{"$f":"IF(P59=\"\",O56,O56+1)","v":0},{"$f":"IF(L59=0,\"\",IF(L59=1,\"\",B58))","v":""}]
[]
[null,{"$f":"IFERROR(IF(HLOOKUP($I$2,予定表!$B$3:$F$79,50,FALSE)=\"\",\"\",HLOOKUP($I$2,予定表!$B$3:$F$79,50,FALSE)),\"\")","v":""}]
[null,null,null,null,null,null,null,null,null,null,0,{"$f":"IF(B61=\"\",0,K62)","v":0},{"$f":"IF(N62=\"\",M59,M59+1)","v":1},{"$f":"IF(L62=1,B61,\"\")","v":""},{"$f":"IF(P62=\"\",O59,O59+1)","v":0},{"$f":"IF(L62=0,\"\",IF(L62=1,\"\",B61))","v":""}]
[]
[null,{"$f":"IFERROR(IF(HLOOKUP($I$2,予定表!$B$3:$F$79,53,FALSE)=\"\",\"\",HLOOKUP($I$2,予定表!$B$3:$F$79,53,FALSE)),\"\")","v":""}]
[null,null,null,null,null,null,null,null,null,null,0,{"$f":"IF(B64=\"\",0,K65)","v":0},{"$f":"IF(N65=\"\",M62,M62+1)","v":1},{"$f":"IF(L65=1,B64,\"\")","v":""},{"$f":"IF(P65=\"\",O62,O62+1)","v":0},{"$f":"IF(L65=0,\"\",IF(L65=1,\"\",B64))","v":""}]
[]
[null,{"$f":"IFERROR(IF(HLOOKUP($I$2,予定表!$B$3:$F$79,56,FALSE)=\"\",\"\",HLOOKUP($I$2,予定表!$B$3:$F$79,56,FALSE)),\"\")","v":""}]
[null,null,null,null,null,null,null,null,null,null,0,{"$f":"IF(B67=\"\",0,K68)","v":0},{"$f":"IF(N68=\"\",M65,M65+1)","v":1},{"$f":"IF(L68=1,B67,\"\")","v":""},{"$f":"IF(P68=\"\",O65,O65+1)","v":0},{"$f":"IF(L68=0,\"\",IF(L68=1,\"\",B67))","v":""}]
[]
[null,{"$f":"IFERROR(IF(HLOOKUP($I$2,予定表!$B$3:$F$79,59,FALSE)=\"\",\"\",HLOOKUP($I$2,予定表!$B$3:$F$79,59,FALSE)),\"\")","v":""}]
[null,null,null,null,null,null,null,null,null,null,0,{"$f":"IF(B70=\"\",0,K71)","v":0},{"$f":"IF(N71=\"\",M68,M68+1)","v":1},{"$f":"IF(L71=1,B70,\"\")","v":""},{"$f":"IF(P71=\"\",O68,O68+1)","v":0},{"$f":"IF(L71=0,\"\",IF(L71=1,\"\",B70))","v":""}]

{"sheet":"レコード","index":2,"n_rows":17,"n_cols":17,"rows_kept":17,"cut":false,"hidden":false,"merged":[[0,12,0,14]]}
[{"$f":"C1&D1","v":"日付名前"},{"$f":"COUNTIF(A:A,A1)","v":1},"日付","名前","作業","考察","ボタン","状況",0,null,"レコードから\n削除する日付","2023-02-01","既に同じ日付のデータがある場合\nは登録できません。\n先に消してください。",null,null,null,1]
[{"$f":"C2&D2","v":"44958梶本幸栄"},{"$f":"COUNTIF(A:A,A2)","v":1},"2023-02-01","梶本幸栄","株式会社トワイライトアース２　駅弁の仕分け","吾輩わがはいは猫である。名前はまだ無い。\nどこで生れたかとんと見当けんとうがつかぬ。何でも薄暗いじめじめした所でニャーニャー泣いていた事だけは記憶している。吾輩はここで始めて人間というものを見た。しかもあとで聞くとそれは書生という人間中で一番獰悪どうあくな種族であったそうだ。",1,"通常",1]
["44958加藤晃子",1,"2023-02-01","加藤晃子",0,0,1,"通常",2]
["44958田村伊珠美",1,"2023-02-01","田村伊珠美",0,0,1,"通常",3]
["44958藤井健大",1,"2023-02-01","藤井健大",0,0,1,"通常",4]
["44958安藤なな",1,"2023-02-01","安藤なな",0,0,1,"通常",5]
["44958武部久也",1,"2023-02-01","武部久也",0,0,1,"通常",6]
["44958德山　澄枝",1,"2023-02-01","德山　澄枝",0,0,1,"通常",7]
["44958中谷　久美子",1,"2023-02-01","中谷　久美子",0,0,1,"通常",8]
["44960梶本幸栄",1,"2023-02-03","梶本幸栄","株式会社トワイライトアース２　駅弁の仕分け","吾輩わがはいは猫である。名前はまだ無い。\nどこで生れたかとんと見当けんとうがつかぬ。何でも薄暗いじめじめした所でニャーニャー泣いていた事だけは記憶している。吾輩はここで始めて人間というものを見た。しかもあとで聞くとそれは書生という人間中で一番獰悪どうあくな種族であったそうだ。",1,"通常",9]
["44960加藤晃子",1,"2023-02-03","加藤晃子",0,0,1,"通常",10]
["44960田村伊珠美",1,"2023-02-03","田村伊珠美",0,0,1,"通常",11]
["44960藤井健大",1,"2023-02-03","藤井健大",0,0,1,"通常",12]
["44960安藤なな",1,"2023-02-03","安藤なな",0,0,1,"通常",13]
["44960武部久也",1,"2023-02-03","武部久也",0,0,1,"通常",14]
["44960德山　澄枝",1,"2023-02-03","德山　澄枝",0,0,1,"通常",15]
["44960中谷　久美子",1,"2023-02-03","中谷　久美子",0,0,1,"通常",16]

{"sheet":"業務日誌","index":3,"n_rows":45,"n_cols":67,"rows_kept":45,"cut":false,"hidden":false,"merged":[[24,57,24,59],[24,60,24,62],[24,63,24,64],[21,63,21,64],[22,57,22,59],[22,60,22,62],[22,63,22,64],[20,60,20,62],[23,57,23,59],[23,60,23,62],[23,63,23,64],[17,60,17,62],[17,63,17,64],[18,57,18,59],[18,60,18,62],[18,63,18,64],[19,57,19,59],[19,60,19,62],[19,63,19,64],[23,34,23,35],[24,34,24,35],[25,34,25,35],[16,57,16,59],[16,60,16,62],[16,63,16,64],[17,57,17,59],[24,36,24,44],[24,45,24,56],[25,36,25,44],[23,31,23,33],[24,31,24,33],[25,31,25,33],[16,34,16,35],[17,34,17,35],[18,34,18,35],[19,34,19,35],[20,34,20,35],[21,34,21,35],[22,34,22,35],[17,31,17,33],[18,31,18,33],[19,31,19,33],[20,31,20,33],[21,31,21,33],[22,31,22,33],[36,26,37,64],[16,28,16,30],[17,28,17,30],[18,28,18,30],[19,28,19,30],[20,28,20,30],[21,28,21,30],[32,36,32,44],[33,36,33,44],[34,36,34,44],[35,36,35,44],[26,36,26,44],[27,36,27,44],[28,36,28,44],[29,36,29,44],[30,36,30,44],[31,36,31,44],[25,63,25,64],[19,45,19,56],[20,36,20,44],[20,45,20,56],[21,36,21,44],[21,45,21,56],[20,57,20,59],[20,63,20,64],[21,57,21,59],[21,60,21,62],[14,36,15,44],[14,34,15,35],[15,28,15,30],[25,45,25,56],[25,57,25,59],[25,60,25,62],[23,28,23,30],[24,28,24,30],[25,28,25,30],[16,31,16,33],[19,36,19,44],[17,45,17,56],[14,7,15,15],[14,16,15,27],[15,31,15,33],[16,36,16,44],[16,45,16,56],[17,36,17,44],[14,28,14,33],[14,45,15,56],[22,36,22,44],[22,45,22,56],[23,36,23,44],[23,45,23,56],[22,28,22,30],[14,57,14,62],[15,57,15,59],[15,60,15,62],[18,36,18,44],[18,45,18,56],[20,16,20,27],[16,16,16,27],[17,16,17,27],[24,16,24,27],[25,16,25,27],[21,16,21,27],[22,16,22,27],[23,16,23,27],[40,7,40,25],[24,7,24,15],[25,7,25,15],[18,7,18,15],[19,7,19,15],[20,7,20,15],[21,7,21,15],[22,7,22,15],[18,16,18,27],[19,16,19,27],[32,53,32,64],[23,7,23,15],[13,7,13,16],[13,36,13,45],[13,17,13,35],[8,51,8,64],[9,37,9,50],[9,51,9,64],[10,37,10,50],[14,63,15,64],[36,7,37,25],[38,26,38,64],[5,51,5,64],[6,37,6,50],[6,51,6,64],[7,37,7,50],[7,51,7,64],[12,51,12,64],[10,51,10,64],[34,53,34,64],[29,53,29,64],[44,7,44,16],[26,53,26,64],[27,53,27,64],[40,26,40,29],[41,26,41,29],[39,26,39,64],[39,7,39,25],[42,7,43,25],[38,7,38,25],[6,23,6,36],[21,1,21,6],[35,53,35,64],[22,1,23,1],[22,2,23,3],[22,4,23,4],[22,5,23,6],[30,53,30,64],[28,53,28,64],[29,1,29,6],[16,7,16,15],[17,7,17,15],[0,7,0,64],[1,16,1,32],[1,33,1,38],[1,7,1,15],[5,37,5,50],[5,23,5,36],[4,51,4,64],[3,51,3,64],[13,46,13,64],[10,23,10,36],[11,23,11,36],[12,23,12,36],[12,37,12,50],[2,1,12,6],[3,23,3,36],[3,7,12,22],[11,51,11,64],[2,7,2,22],[33,53,33,64],[31,53,31,64],[7,23,7,36],[8,23,8,36],[9,23,9,36],[30,1,31,1],[30,2,31,3],[30,4,31,4],[30,5,31,6],[14,1,17,6],[1,1,1,6],[3,37,3,50],[4,37,4,50],[8,37,8,50],[11,37,11,50],[4,23,4,36],[1,39,1,44],[1,45,1,64],[2,23,2,50],[2,51,2,64]]}
[null,null,null,null,null,null,null,"業　務　日    誌"]
[null,"年月日",null,null,null,null,null,"年月日",null,null,null,null,null,null,null,null,{"$f":"全体記録!G2","v":"2023-02-03"},null,null,null,null,null,null,null,null,null,null,null,null,null,null,null,null,{"$f":"全体記録!I2","v":"月"},null,null,null,null,null,"記録者",null,null,null,null,null,"職員１",null,null,null,null,null,null,null,null,null,null,null,null,null,null,null,null,null,null,null,null,"職員リスト"]
[null,"利用者数",null,null,null,null,null,"利用内訳",null,null,null,null,null,null,null,null,null,null,null,null,null,null,null,"利用者名",null,null,null,null,null,null,null,null,null,null,null,null,null,null,null,null,null,null,null,null,null,null,null,null,null,null,null,"欠席者名"]
[null,null,null,null,null,null,null,{"$f":"全体記録!B2","v":"通所者数：　　 1　名               欠席者数： 　  0　名"},null,null,null,null,null,null,null,null,null,null,null,null,null,null,null,{"$f":"全体記録!S14","v":"フルネーム"},null,null,null,null,null,null,null,null,null,null,null,null,null,{"$f":"全体記録!S24","v":""},null,null,null,null,null,null,null,null,null,null,null,null,null,{"$f":"全体記録!V14","v":""},null,null,null,null,null,null,null,null,null,null,null,null,null,null,"職員１"]
[null,null,null,null,null,null,null,null,null,null,null,null,null,null,null,null,null,null,null,null,null,null,null,{"$f":"全体記録!S15","v":""},null,null,null,null,null,null,null,null,null,null,null,null,null,{"$f":"全体記録!S25","v":""},null,null,null,null,null,null,null,null,null,null,null,null,null,{"$f":"全体記録!V15","v":""},null,null,null,null,null,null,null,null,null,null,null,null,null,null,"職員２"]
[null,null,null,null,null,null,null,null,null,null,null,null,null,null,null,null,null,null,null,null,null,null,null,{"$f":"全体記録!S16","v":""},null,null,null,null,null,null,null,null,null,null,null,null,null,{"$f":"全体記録!S26","v":""},null,null,null,null,null,null,null,null,null,null,null,null,null,{"$f":"全体記録!V16","v":""},null,null,null,null,null,null,null,null,null,null,null,null,null,null,"職員３"]
[null,null,null,null,null,null,null,null,null,null,null,null,null,null,null,null,null,null,null,null,null,null,null,{"$f":"全体記録!S17","v":""},null,null,null,null,null,null,null,null,null,null,null,null,null,{"$f":"全体記録!S27","v":""},null,null,null,null,null,null,null,null,null,null,null,null,null,{"$f":"全体記録!V17","v":""},null,null,null,null,null,null,null,null,null,null,null,null,null,null,"職員４"]
[null,null,null,null,null,null,null,null,null,null,null,null,null,null,null,null,null,null,null,null,null,null,null,{"$f":"全体記録!S18","v":""},null,null,null,null,null,null,null,null,null,null,null,null,null,{"$f":"全体記録!S28","v":""},null,null,null,null,null,null,null,null,null,null,null,null,null,{"$f":"全体記録!V18","v":""},null,null,null,null,null,null,null,null,null,null,null,null,null,null,"職員５"]
[null,null,null,null,null,null,null,null,null,null,null,null,null,null,null,null,null,null,null,null,null,null,null,{"$f":"全体記録!S19","v":""},null,null,null,null,null,null,null,null,null,null,null,null,null,{"$f":"全体記録!S29","v":""},null,null,null,null,null,null,null,null,null,null,null,null,null,{"$f":"全体記録!V19","v":""},null,null,null,null,null,null,null,null,null,null,null,null,null,null,"職員６"]
[null,null,null,null,null,null,null,null,null,null,null,null,null,null,null,null,null,null,null,null,null,null,null,{"$f":"全体記録!S20","v":""},null,null,null,null,null,null,null,null,null,null,null,null,null,{"$f":"全体記録!S30","v":""},null,null,null,null,null,null,null,null,null,null,null,null,null,{"$f":"全体記録!V20","v":""},null,null,null,null,null,null,null,null,null,null,null,null,null,null,"職員７"]
[null,null,null,null,null,null,null,null,null,null,null,null,null,null,null,null,null,null,null,null,null,null,null,{"$f":"全体記録!S21","v":""},null,null,null,null,null,null,null,null,null,null,null,null,null,{"$f":"全体記録!S31","v":""},null,null,null,null,null,null,null,null,null,null,null,null,null,{"$f":"全体記録!V21","v":""},null,null,null,null,null,null,null,null,null,null,null,null,null,null,"職員８"]
[null,null,null,null,null,null,null,null,null,null,null,null,null,null,null,null,null,null,null,null,null,null,null,{"$f":"全体記録!S22","v":""},null,null,null,null,null,null,null,null,null,null,null,null,null,{"$f":"全体記録!S32","v":""},null,null,null,null,null,null,null,null,null,null,null,null,null,{"$f":"全体記録!V22","v":""},null,null,null,null,null,null,null,null,null,null,null,null,null,null,"職員９"]
[null,null,null,null,null,null,null,null,null,null,null,null,null,null,null,null,null,null,null,null,null,null,null,{"$f":"全体記録!S23","v":""},null,null,null,null,null,null,null,null,null,null,null,null,null,{"$f":"全体記録!S33","v":""},null,null,null,null,null,null,null,null,null,null,null,null,null,{"$f":"全体記録!V23","v":""},null,null,null,null,null,null,null,null,null,null,null,null,null,null,"職員１０"]
[null,null,null,null,null,null,null,"勤務時間",null,null,null,null,null,null,null,null,null,"：　 　  　～　   　　：",null,null,null,null,null,null,null,null,null,null,null,null,null,null,null,null,null,null,"内休憩時間",null,null,null,null,null,null,null,null,null,"：　 　  　～　   　　：",null,null,null,null,null,null,null,null,null,null,null,null,null,null,null,null,null,null,null,"職員１１"]
[null,"送　　迎",null,null,null,null,null,"利用者名",null,null,null,null,null,null,null,null,"事業所到着～出発",null,null,null,null,null,null,null,null,null,null,null,"送迎",null,null,null,null,null,"昼食",null,"利用者名",null,null,null,null,null,null,null,null,"事業所到着～出発",null,null,null,null,null,null,null,null,null,null,null,"送迎",null,null,null,null,null,"昼食",null,null,"職員１２"]
[null,null,null,null,null,null,null,null,null,null,null,null,null,null,null,null,null,null,null,null,null,null,null,null,null,null,null,null,"迎",null,null,"送",null,null,null,null,null,null,null,null,null,null,null,null,null,null,null,null,null,null,null,null,null,null,null,null,null,"迎",null,null,"送",null,null,null,null,null,"職員１３"]
[null,null,null,null,null,null,null,{"$f":"IF(X4=\"\",\"\",X4)","v":"フルネーム"},null,null,null,null,null,null,null,null,"　　 ：　　 ～　　 ：　　 ",null,null,null,null,null,null,null,null,null,null,null,null,null,null,null,null,null,null,null,{"$f":"IF(AL4=\"\",\"\",AL4)","v":""},null,null,null,null,null,null,null,null,"　　 ：　　 ～　　 ：　　 ",null,null,null,null,null,null,null,null,null,null,null,null,null,null,null,null,null,null,null,null,"職員１４"]
[null,null,null,null,null,null,null,"",null,null,null,null,null,null,null,null,"　　 ：　　 ～　　 ：　　 ",null,null,null,null,null,null,null,null,null,null,null,null,null,null,null,null,null,null,null,"",null,null,null,null,null,null,null,null,"　　 ：　　 ～　　 ：　　 ",null,null,null,null,null,null,null,null,null,null,null,null,null,null,null,null,null,null,null,null,"職員１５"]
[null,null,null,null,null,null,null,"",null,null,null,null,null,null,null,null,"　　 ：　　 ～　　 ：　　 ",null,null,null,null,null,null,null,null,null,null,null,null,null,null,null,null,null,null,null,"",null,null,null,null,null,null,null,null,"　　 ：　　 ～　　 ：　　 ",null,null,null,null,null,null,null,null,null,null,null,null,null,null,null,null,null,null,null,null,"職員１６"]
[null,null,null,null,null,null,null,"",null,null,null,null,null,null,null,null,"　　 ：　　 ～　　 ：　　 ",null,null,null,null,null,null,null,null,null,null,null,null,null,null,null,null,null,null,null,"",null,null,null,null,null,null,null,null,"　　 ：　　 ～　　 ：　　 ",null,null,null,null,null,null,null,null,null,null,null,null,null,null,null,null,null,null,null,null,"職員１７"]
[null,null,null,null,null,null,null,"",null,null,null,null,null,null,null,null,"　　 ：　　 ～　　 ：　　 ",null,null,null,null,null,null,null,null,null,null,null,null,null,null,null,null,null,null,null,"",null,null,null,null,null,null,null,null,"　　 ：　　 ～　　 ：　　 ",null,null,null,null,null,null,null,null,null,null,null,null,null,null,null,null,null,null,null,null,"職員１８"]
[null,"行",null,null,null,null,null,"",null,null,null,null,null,null,null,null,"　　 ：　　 ～　　 ：　　 ",null,null,null,null,null,null,null,null,null,null,null,null,null,null,null,null,null,null,null,"",null,null,null,null,null,null,null,null,"　　 ：　　 ～　　 ：　　 ",null,null,null,null,null,null,null,null,null,null,null,null,null,null,null,null,null,null,null,null,"職員１９"]
[null,"（",null,null,"）","回",null,"",null,null,null,null,null,null,null,null,"　　 ：　　 ～　　 ：　　 ",null,null,null,null,null,null,null,null,null,null,null,null,null,null,null,null,null,null,null,"",null,null,null,null,null,null,null,null,"　　 ：　　 ～　　 ：　　 ",null,null,null,null,null,null,null,null,null,null,null,null,null,null,null,null,null,null,null,null,"職員２０"]
[null,null,null,null,null,null,null,"",null,null,null,null,null,null,null,null,"　　 ：　　 ～　　 ：　　 ",null,null,null,null,null,null,null,null,null,null,null,null,null,null,null,null,null,null,null,"",null,null,null,null,null,null,null,null,"　　 ：　　 ～　　 ：　　 "]
[null,null,null,null,null,null,null,"",null,null,null,null,null,null,null,null,"　　 ：　　 ～　　 ：　　 ",null,null,null,null,null,null,null,null,null,null,null,null,null,null,null,null,null,null,null,"",null,null,null,null,null,null,null,null,"　　 ：　　 ～　　 ：　　 "]
[null,null,null,null,null,null,null,"",null,null,null,null,null,null,null,null,"　　 ：　　 ～　　 ：　　 ",null,null,null,null,null,null,null,null,null,null,null,null,null,null,null,null,null,null,null,"",null,null,null,null,null,null,null,null,"　　 ：　　 ～　　 ：　　 "]
[null,null,null,null,null,null,null,null,null,null,null,null,null,null,null,null,null,null,null,null,null,"：",null,null,null,null,null,null,null,null,null,"　　　：　  　  　　～　　    　　：　　　",null,null,null,null,""]
[null,null,null,null,null,null,null,null,null,null,null,null,null,null,null,null,null,null,null,null,null,"：",null,null,null,null,null,null,null,null,null,"　　　：　  　  　　～　　    　　：　　　",null,null,null,null,""]
[null,null,null,null,null,null,null,null,null,null,null,null,null,null,null,null,null,null,null,null,null,"：",null,null,null,null,null,null,null,null,null,"　　　：　  　  　　～　　    　　：　　　",null,null,null,null,{"$f":"IF(AL17=\"\",\"\",AL17)","v":""}]
[null,"行",null,null,null,null,null,null,null,null,null,null,null,null,null,null,null,null,null,null,null,"：",null,null,null,null,null,null,null,null,null,"　　　：　  　  　　～　　    　　：　　　",null,null,null,null,""]
[null,"（",null,null,"）","回",null,null,null,null,null,null,null,null,null,null,null,null,null,null,null,"：",null,null,null,null,null,null,null,null,null,"　　　：　  　  　　～　　    　　：　　　",null,null,null,null,""]
[null,null,null,null,null,null,null,null,null,null,null,null,null,null,null,null,null,null,null,null,null,"：",null,null,null,null,null,null,null,null,null,"　　　：　  　  　　～　　    　　：　　　",null,null,null,null,""]
[null,null,null,null,null,null,null,null,null,null,null,null,null,null,null,null,null,null,null,null,null,"：",null,null,null,null,null,null,null,null,null,"　　　：　  　  　　～　　    　　：　　　",null,null,null,null,""]
[null,null,null,null,null,null,null,null,null,null,null,null,null,null,null,null,null,null,null,null,null,"：",null,null,null,null,null,null,null,null,null,"　　　：　  　  　　～　　    　　：　　　",null,null,null,null,""]
[null,null,null,null,null,null,null,null,null,null,null,null,null,null,null,null,null,null,null,null,null,"：",null,null,null,null,null,null,null,null,null,"　　　：　  　  　　～　　    　　：　　　",null,null,null,null,""]
[null,null,null,null,null,null,null,null,null,null,null,null,null,null,null,null,null,null,null,null,null,"：",null,null,null,null,null,null,null,null,null,"　　　：　  　  　　～　　    　　：　　　",null,null,null,null,""]
[null,null,null,null,null,null,null,"身体拘束記録",null,null,null,null,null,null,null,null,null,null,null,null,null,null,null,null,null,null,"無　　・　　有\n（有の場合は身体拘束記録に記載）"]
[]
[null,null,null,null,null,null,null,"送迎迎え運転手"]
[null,null,null,null,null,null,null,"送迎送り運転手"]
[null,null,null,null,null,null,null,"昼食",null,null,null,null,null,null,null,null,null,null,null,null,null,null,null,null,null,null," 献立\n①"]
[null,null,null,null,null,null,null,null,null,null,null,null,null,null,null,null,null,null,null,null,null,null,null,null,null,null," 献立\n②"]
[null,null,null,null,null,null,null,"昼食連絡事項",null,null,null,null,null,null,null,null,null,null,null,null,null,null,null,null,null,null,"調理担当者："]
[]
[null,null,null,null,null,null,null,"【特記事項】"]

{"sheet":"個別記録","index":4,"n_rows":37,"n_cols":62,"rows_kept":37,"cut":false,"hidden":false,"merged":[[3,60,5,60],[3,26,5,36],[3,37,5,56],[3,61,5,74],[6,61,6,74],[7,61,7,74],[7,26,7,36],[7,37,7,56],[35,4,35,9],[36,4,36,9],[3,4,5,9],[29,4,29,9],[30,4,30,9],[31,4,31,9],[32,4,32,9],[33,4,33,9],[34,4,34,9],[23,4,23,9],[12,4,12,9],[13,4,13,9],[14,4,14,9],[15,4,15,9],[16,4,16,9],[24,4,24,9],[17,4,17,9],[18,4,18,9],[19,4,19,9],[20,4,20,9],[8,4,8,9],[9,4,9,9],[10,4,10,9],[1,1,1,11],[8,10,8,15],[6,1,6,2],[4,10,5,15],[3,1,5,2],[1,12,1,41],[3,10,3,25],[37,1,39,56],[6,10,6,15],[6,16,6,21],[6,22,6,25],[36,1,36,2],[7,10,7,15],[7,16,7,21],[7,22,7,25],[9,10,9,15],[9,16,9,21],[9,22,9,25],[35,1,35,2],[10,10,10,15],[10,16,10,21],[10,22,10,25],[11,10,11,15],[22,4,22,9],[11,4,11,9],[11,16,11,21],[14,16,14,21],[14,22,14,25],[15,10,15,15],[11,22,11,25],[12,10,12,15],[12,16,12,21],[12,22,12,25],[15,16,15,21],[15,22,15,25],[15,37,15,56],[34,1,34,2],[13,10,13,15],[13,16,13,21],[13,22,13,25],[14,10,14,15],[33,1,33,2],[16,10,16,15],[16,16,16,21],[16,22,16,25],[17,10,17,15],[17,16,17,21],[17,22,17,25],[18,10,18,15],[18,16,18,21],[18,22,18,25],[19,10,19,15],[19,16,19,21],[19,22,19,25],[20,10,20,15],[20,16,20,21],[27,22,27,25],[30,1,30,2],[25,10,25,15],[21,10,21,15],[21,16,21,21],[21,22,21,25],[32,1,32,2],[25,4,25,9],[26,4,26,9],[27,4,27,9],[28,4,28,9],[27,10,27,15],[27,16,27,21],[24,16,24,21],[24,22,24,25],[31,1,31,2],[22,10,22,15],[22,16,22,21],[22,22,22,25],[23,10,23,15],[29,16,29,21],[29,1,29,2],[28,10,28,15],[28,16,28,21],[28,22,28,25],[29,10,29,15],[25,16,25,21],[25,22,25,25],[26,10,26,15],[26,16,26,21],[26,22,26,25],[33,16,33,21],[33,22,33,25],[28,1,28,2],[31,10,31,15],[31,16,31,21],[31,22,31,25],[29,22,29,25],[30,10,30,15],[30,16,30,21],[30,22,30,25],[26,1,26,2],[27,1,27,2],[34,10,34,15],[34,16,34,21],[34,22,34,25],[35,10,35,15],[35,16,35,21],[35,22,35,25],[32,10,32,15],[32,16,32,21],[36,10,36,15],[36,16,36,21],[36,22,36,25],[32,22,32,25],[33,10,33,15],[14,37,14,56],[14,26,14,36],[15,26,15,36],[16,26,16,36],[26,26,26,36],[25,1,25,2],[23,16,23,21],[23,22,23,25],[24,10,24,15],[20,22,20,25],[24,1,24,2],[22,1,22,2],[23,1,23,2],[21,1,21,2],[21,4,21,9],[23,37,23,56],[24,37,24,56],[25,37,25,56],[23,26,23,36],[24,26,24,36],[25,26,25,36],[1,42,1,49],[1,50,1,56],[20,1,20,2],[19,1,19,2],[18,1,18,2],[17,1,17,2],[16,1,16,2],[15,1,15,2],[14,1,14,2],[13,1,13,2],[12,1,12,2],[11,1,11,2],[10,1,10,2],[9,1,9,2],[8,1,8,2],[7,1,7,2],[3,3,5,3],[6,26,6,36],[6,37,6,56],[4,16,5,21],[4,22,5,25],[8,26,8,36],[8,16,8,21],[8,22,8,25],[6,4,6,9],[7,4,7,9],[9,26,9,36],[10,26,10,36],[11,26,11,36],[12,26,12,36],[13,26,13,36],[17,26,17,36],[18,26,18,36],[19,26,19,36],[20,26,20,36],[21,26,21,36],[22,26,22,36],[31,26,31,36],[27,26,27,36],[28,26,28,36],[29,26,29,36],[30,26,30,36],[32,26,32,36],[33,26,33,36],[34,26,34,36],[35,26,35,36],[36,26,36,36],[8,37,8,56],[9,37,9,56],[10,37,10,56],[11,37,11,56],[12,37,12,56],[13,37,13,56],[30,37,30,56],[31,37,31,56],[16,37,16,56],[17,37,17,56],[18,37,18,56],[19,37,19,56],[20,37,20,56],[21,37,21,56],[22,37,22,56],[32,37,32,56],[33,37,33,56],[34,37,34,56],[35,37,35,56],[36,37,36,56],[26,37,26,56],[27,37,27,56],[28,37,28,56],[29,37,29,56]]}
[]
[null,"契約支給量",null,null,null,null,null,null,null,null,null,null,null,null,null,null,null,null,null,null,null,null,null,null,null,null,null,null,null,null,null,null,null,null,null,null,null,null,null,null,null,null,"事業所名"]
[]
[null,"日付",null,"曜日","サービス",null,null,null,null,null,"サービス提供時間",null,null,null,null,null,null,null,null,null,null,null,null,null,null,null,"作業内容",null,null,null,null,null,null,null,null,null,null,"職員考察",null,null,null,null,null,null,null,null,null,null,null,null,null,null,null,null,null,null,null,null,null,null,"表題","個別記録"]
[null,null,null,null,null,null,null,null,null,null,"開始時間",null,null,null,null,null,"終了時間",null,null,null,null,null,"時間数"]
[{"$f":"DAY(EOMONTH($BJ$6,0))","v":31}]
[1,{"$f":"A7","v":1},null,{"$f":"TEXT(DATE(YEAR($BJ$7),MONTH($BJ$7),B7),\"aaa\")","v":"水"},{"$f":"IFERROR(VLOOKUP(BF7,レコード!A:H,8,FALSE),\"\")","v":"通常"},null,null,null,null,null,null,null,null,null,null,null,null,null,null,null,null,null,null,null,null,null,{"$f":"IFERROR(VLOOKUP(BF7,レコード!A:H,5,FALSE),\"\")","v":"株式会社トワイライトアース２　駅弁の仕分け"},null,null,null,null,null,null,null,null,null,null,{"$f":"IFERROR(VLOOKUP(BF7,レコード!A:H,6,FALSE),\"\")","v":"吾輩わがはいは猫である。名前はまだ無い。\nどこで生れたかとんと見当けんとうがつかぬ。何でも薄暗いじめじめした所でニャーニャー泣いていた事だけは記憶している。吾輩はここで始めて人間というものを見た。しかもあとで聞くとそれは書生という人間中で一番獰悪どうあくな種族であったそうだ。"},null,null,null,null,null,null,null,null,null,null,null,null,null,null,null,null,null,null,null,{"$f":"IFERROR(DATE(YEAR($BJ$7),MONTH($BJ$7),B7),0)&$BJ$8","v":"44958梶本幸栄"},null,null,"提供月",{"$f":"全体記録!G2","v":"2023-02-03"}]
[2,{"$f":"A8","v":2},null,{"$f":"TEXT(DATE(YEAR($BJ$7),MONTH($BJ$7),B8),\"aaa\")","v":"木"},{"$f":"IFERROR(VLOOKUP(BF8,レコード!A:H,8,FALSE),\"\")","v":""},null,null,null,null,null,null,null,null,null,null,null,null,null,null,null,null,null,null,null,null,null,{"$f":"IFERROR(VLOOKUP(BF8,レコード!A:H,5,FALSE),\"\")","v":""},null,null,null,null,null,null,null,null,null,null,{"$f":"IFERROR(VLOOKUP(BF8,レコード!A:H,6,FALSE),\"\")","v":""},null,null,null,null,null,null,null,null,null,null,null,null,null,null,null,null,null,null,null,"44959梶本幸栄",null,null,"利用者名","梶本幸栄"]
[3,3,null,"金",{"$f":"IFERROR(VLOOKUP(BF9,レコード!A:H,8,FALSE),\"\")","v":"通常"},null,null,null,null,null,null,null,null,null,null,null,null,null,null,null,null,null,null,null,null,null,{"$f":"IFERROR(VLOOKUP(BF9,レコード!A:H,5,FALSE),\"\")","v":"株式会社トワイライトアース２　駅弁の仕分け"},null,null,null,null,null,null,null,null,null,null,{"$f":"IFERROR(VLOOKUP(BF9,レコード!A:H,6,FALSE),\"\")","v":"吾輩わがはいは猫である。名前はまだ無い。\nどこで生れたかとんと見当けんとうがつかぬ。何でも薄暗いじめじめした所でニャーニャー泣いていた事だけは記憶している。吾輩はここで始めて人間というものを見た。しかもあとで聞くとそれは書生という人間中で一番獰悪どうあくな種族であったそうだ。"},null,null,null,null,null,null,null,null,null,null,null,null,null,null,null,null,null,null,null,"44960梶本幸栄"]
[4,4,null,"土",{"$f":"IFERROR(VLOOKUP(BF10,レコード!A:H,8,FALSE),\"\")","v":""},null,null,null,null,null,null,null,null,null,null,null,null,null,null,null,null,null,null,null,null,null,{"$f":"IFERROR(VLOOKUP(BF10,レコード!A:H,5,FALSE),\"\")","v":""},null,null,null,null,null,null,null,null,null,null,{"$f":"IFERROR(VLOOKUP(BF10,レコード!A:H,6,FALSE),\"\")","v":""},null,null,null,null,null,null,null,null,null,null,null,null,null,null,null,null,null,null,null,"44961梶本幸栄"]
[5,5,null,"日",{"$f":"IFERROR(VLOOKUP(BF11,レコード!A:H,8,FALSE),\"\")","v":""},null,null,null,null,null,null,null,null,null,null,null,null,null,null,null,null,null,null,null,null,null,{"$f":"IFERROR(VLOOKUP(BF11,レコード!A:H,5,FALSE),\"\")","v":""},null,null,null,null,null,null,null,null,null,null,{"$f":"IFERROR(VLOOKUP(BF11,レコード!A:H,6,FALSE),\"\")","v":""},null,null,null,null,null,null,null,null,null,null,null,null,null,null,null,null,null,null,null,"44962梶本幸栄"]
[6,6,null,"月",{"$f":"IFERROR(VLOOKUP(BF12,レコード!A:H,8,FALSE),\"\")","v":""},null,null,null,null,null,null,null,null,null,null,null,null,null,null,null,null,null,null,null,null,null,{"$f":"IFERROR(VLOOKUP(BF12,レコード!A:H,5,FALSE),\"\")","v":""},null,null,null,null,null,null,null,null,null,null,{"$f":"IFERROR(VLOOKUP(BF12,レコード!A:H,6,FALSE),\"\")","v":""},null,null,null,null,null,null,null,null,null,null,null,null,null,null,null,null,null,null,null,"44963梶本幸栄"]
[7,7,null,"火",{"$f":"IFERROR(VLOOKUP(BF13,レコード!A:H,8,FALSE),\"\")","v":""},null,null,null,null,null,null,null,null,null,null,null,null,null,null,null,null,null,null,null,null,null,{"$f":"IFERROR(VLOOKUP(BF13,レコード!A:H,5,FALSE),\"\")","v":""},null,null,null,null,null,null,null,null,null,null,{"$f":"IFERROR(VLOOKUP(BF13,レコード!A:H,6,FALSE),\"\")","v":""},null,null,null,null,null,null,null,null,null,null,null,null,null,null,null,null,null,null,null,"44964梶本幸栄"]
[8,8,null,"水",{"$f":"IFERROR(VLOOKUP(BF14,レコード!A:H,8,FALSE),\"\")","v":""},null,null,null,null,null,null,null,null,null,null,null,null,null,null,null,null,null,null,null,null,null,{"$f":"IFERROR(VLOOKUP(BF14,レコード!A:H,5,FALSE),\"\")","v":""},null,null,null,null,null,null,null,null,null,null,{"$f":"IFERROR(VLOOKUP(BF14,レコード!A:H,6,FALSE),\"\")","v":""},null,null,null,null,null,null,null,null,null,null,null,null,null,null,null,null,null,null,null,"44965梶本幸栄"]
[9,9,null,"木",{"$f":"IFERROR(VLOOKUP(BF15,レコード!A:H,8,FALSE),\"\")","v":""},null,null,null,null,null,null,null,null,null,null,null,null,null,null,null,null,null,null,null,null,null,{"$f":"IFERROR(VLOOKUP(BF15,レコード!A:H,5,FALSE),\"\")","v":""},null,null,null,null,null,null,null,null,null,null,{"$f":"IFERROR(VLOOKUP(BF15,レコード!A:H,6,FALSE),\"\")","v":""},null,null,null,null,null,null,null,null,null,null,null,null,null,null,null,null,null,null,null,"44966梶本幸栄"]
[10,10,null,"金",{"$f":"IFERROR(VLOOKUP(BF16,レコード!A:H,8,FALSE),\"\")","v":""},null,null,null,null,null,null,null,null,null,null,null,null,null,null,null,null,null,null,null,null,null,{"$f":"IFERROR(VLOOKUP(BF16,レコード!A:H,5,FALSE),\"\")","v":""},null,null,null,null,null,null,null,null,null,null,{"$f":"IFERROR(VLOOKUP(BF16,レコード!A:H,6,FALSE),\"\")","v":""},null,null,null,null,null,null,null,null,null,null,null,null,null,null,null,null,null,null,null,"44967梶本幸栄"]
[11,11,null,"土",{"$f":"IFERROR(VLOOKUP(BF17,レコード!A:H,8,FALSE),\"\")","v":""},null,null,null,null,null,null,null,null,null,null,null,null,null,null,null,null,null,null,null,null,null,{"$f":"IFERROR(VLOOKUP(BF17,レコード!A:H,5,FALSE),\"\")","v":""},null,null,null,null,null,null,null,null,null,null,{"$f":"IFERROR(VLOOKUP(BF17,レコード!A:H,6,FALSE),\"\")","v":""},null,null,null,null,null,null,null,null,null,null,null,null,null,null,null,null,null,null,null,"44968梶本幸栄"]
[12,12,null,"日",{"$f":"IFERROR(VLOOKUP(BF18,レコード!A:H,8,FALSE),\"\")","v":""},null,null,null,null,null,null,null,null,null,null,null,null,null,null,null,null,null,null,null,null,null,{"$f":"IFERROR(VLOOKUP(BF18,レコード!A:H,5,FALSE),\"\")","v":""},null,null,null,null,null,null,null,null,null,null,{"$f":"IFERROR(VLOOKUP(BF18,レコード!A:H,6,FALSE),\"\")","v":""},null,null,null,null,null,null,null,null,null,null,null,null,null,null,null,null,null,null,null,"44969梶本幸栄"]
[13,13,null,"月",{"$f":"IFERROR(VLOOKUP(BF19,レコード!A:H,8,FALSE),\"\")","v":""},null,null,null,null,null,null,null,null,null,null,null,null,null,null,null,null,null,null,null,null,null,{"$f":"IFERROR(VLOOKUP(BF19,レコード!A:H,5,FALSE),\"\")","v":""},null,null,null,null,null,null,null,null,null,null,{"$f":"IFERROR(VLOOKUP(BF19,レコード!A:H,6,FALSE),\"\")","v":""},null,null,null,null,null,null,null,null,null,null,null,null,null,null,null,null,null,null,null,"44970梶本幸栄"]
[14,14,null,"火",{"$f":"IFERROR(VLOOKUP(BF20,レコード!A:H,8,FALSE),\"\")","v":""},null,null,null,null,null,null,null,null,null,null,null,null,null,null,null,null,null,null,null,null,null,{"$f":"IFERROR(VLOOKUP(BF20,レコード!A:H,5,FALSE),\"\")","v":""},null,null,null,null,null,null,null,null,null,null,{"$f":"IFERROR(VLOOKUP(BF20,レコード!A:H,6,FALSE),\"\")","v":""},null,null,null,null,null,null,null,null,null,null,null,null,null,null,null,null,null,null,null,"44971梶本幸栄"]
[15,15,null,"水",{"$f":"IFERROR(VLOOKUP(BF21,レコード!A:H,8,FALSE),\"\")","v":""},null,null,null,null,null,null,null,null,null,null,null,null,null,null,null,null,null,null,null,null,null,{"$f":"IFERROR(VLOOKUP(BF21,レコード!A:H,5,FALSE),\"\")","v":""},null,null,null,null,null,null,null,null,null,null,{"$f":"IFERROR(VLOOKUP(BF21,レコード!A:H,6,FALSE),\"\")","v":""},null,null,null,null,null,null,null,null,null,null,null,null,null,null,null,null,null,null,null,"44972梶本幸栄"]
[16,16,null,"木",{"$f":"IFERROR(VLOOKUP(BF22,レコード!A:H,8,FALSE),\"\")","v":""},null,null,null,null,null,null,null,null,null,null,null,null,null,null,null,null,null,null,null,null,null,{"$f":"IFERROR(VLOOKUP(BF22,レコード!A:H,5,FALSE),\"\")","v":""},null,null,null,null,null,null,null,null,null,null,{"$f":"IFERROR(VLOOKUP(BF22,レコード!A:H,6,FALSE),\"\")","v":""},null,null,null,null,null,null,null,null,null,null,null,null,null,null,null,null,null,null,null,"44973梶本幸栄"]
[17,17,null,"金",{"$f":"IFERROR(VLOOKUP(BF23,レコード!A:H,8,FALSE),\"\")","v":""},null,null,null,null,null,null,null,null,null,null,null,null,null,null,null,null,null,null,null,null,null,{"$f":"IFERROR(VLOOKUP(BF23,レコード!A:H,5,FALSE),\"\")","v":""},null,null,null,null,null,null,null,null,null,null,{"$f":"IFERROR(VLOOKUP(BF23,レコード!A:H,6,FALSE),\"\")","v":""},null,null,null,null,null,null,null,null,null,null,null,null,null,null,null,null,null,null,null,"44974梶本幸栄"]
[18,18,null,"土",{"$f":"IFERROR(VLOOKUP(BF24,レコード!A:H,8,FALSE),\"\")","v":""},null,null,null,null,null,null,null,null,null,null,null,null,null,null,null,null,null,null,null,null,null,{"$f":"IFERROR(VLOOKUP(BF24,レコード!A:H,5,FALSE),\"\")","v":""},null,null,null,null,null,null,null,null,null,null,{"$f":"IFERROR(VLOOKUP(BF24,レコード!A:H,6,FALSE),\"\")","v":""},null,null,null,null,null,null,null,null,null,null,null,null,null,null,null,null,null,null,null,"44975梶本幸栄"]
[19,19,null,"日",{"$f":"IFERROR(VLOOKUP(BF25,レコード!A:H,8,FALSE),\"\")","v":""},null,null,null,null,null,null,null,null,null,null,null,null,null,null,null,null,null,null,null,null,null,{"$f":"IFERROR(VLOOKUP(BF25,レコード!A:H,5,FALSE),\"\")","v":""},null,null,null,null,null,null,null,null,null,null,{"$f":"IFERROR(VLOOKUP(BF25,レコード!A:H,6,FALSE),\"\")","v":""},null,null,null,null,null,null,null,null,null,null,null,null,null,null,null,null,null,null,null,"44976梶本幸栄"]
[20,20,null,"月",{"$f":"IFERROR(VLOOKUP(BF26,レコード!A:H,8,FALSE),\"\")","v":""},null,null,null,null,null,null,null,null,null,null,null,null,null,null,null,null,null,null,null,null,null,{"$f":"IFERROR(VLOOKUP(BF26,レコード!A:H,5,FALSE),\"\")","v":""},null,null,null,null,null,null,null,null,null,null,{"$f":"IFERROR(VLOOKUP(BF26,レコード!A:H,6,FALSE),\"\")","v":""},null,null,null,null,null,null,null,null,null,null,null,null,null,null,null,null,null,null,null,"44977梶本幸栄"]
[21,21,null,"火",{"$f":"IFERROR(VLOOKUP(BF27,レコード!A:H,8,FALSE),\"\")","v":""},null,null,null,null,null,null,null,null,null,null,null,null,null,null,null,null,null,null,null,null,null,{"$f":"IFERROR(VLOOKUP(BF27,レコード!A:H,5,FALSE),\"\")","v":""},null,null,null,null,null,null,null,null,null,null,{"$f":"IFERROR(VLOOKUP(BF27,レコード!A:H,6,FALSE),\"\")","v":""},null,null,null,null,null,null,null,null,null,null,null,null,null,null,null,null,null,null,null,"44978梶本幸栄"]
[22,22,null,"水",{"$f":"IFERROR(VLOOKUP(BF28,レコード!A:H,8,FALSE),\"\")","v":""},null,null,null,null,null,null,null,null,null,null,null,null,null,null,null,null,null,null,null,null,null,{"$f":"IFERROR(VLOOKUP(BF28,レコード!A:H,5,FALSE),\"\")","v":""},null,null,null,null,null,null,null,null,null,null,{"$f":"IFERROR(VLOOKUP(BF28,レコード!A:H,6,FALSE),\"\")","v":""},null,null,null,null,null,null,null,null,null,null,null,null,null,null,null,null,null,null,null,"44979梶本幸栄"]
[23,23,null,"木",{"$f":"IFERROR(VLOOKUP(BF29,レコード!A:H,8,FALSE),\"\")","v":""},null,null,null,null,null,null,null,null,null,null,null,null,null,null,null,null,null,null,null,null,null,{"$f":"IFERROR(VLOOKUP(BF29,レコード!A:H,5,FALSE),\"\")","v":""},null,null,null,null,null,null,null,null,null,null,{"$f":"IFERROR(VLOOKUP(BF29,レコード!A:H,6,FALSE),\"\")","v":""},null,null,null,null,null,null,null,null,null,null,null,null,null,null,null,null,null,null,null,"44980梶本幸栄"]
[24,24,null,"金",{"$f":"IFERROR(VLOOKUP(BF30,レコード!A:H,8,FALSE),\"\")","v":""},null,null,null,null,null,null,null,null,null,null,null,null,null,null,null,null,null,null,null,null,null,{"$f":"IFERROR(VLOOKUP(BF30,レコード!A:H,5,FALSE),\"\")","v":""},null,null,null,null,null,null,null,null,null,null,{"$f":"IFERROR(VLOOKUP(BF30,レコード!A:H,6,FALSE),\"\")","v":""},null,null,null,null,null,null,null,null,null,null,null,null,null,null,null,null,null,null,null,"44981梶本幸栄"]
[25,25,null,"土",{"$f":"IFERROR(VLOOKUP(BF31,レコード!A:H,8,FALSE),\"\")","v":""},null,null,null,null,null,null,null,null,null,null,null,null,null,null,null,null,null,null,null,null,null,{"$f":"IFERROR(VLOOKUP(BF31,レコード!A:H,5,FALSE),\"\")","v":""},null,null,null,null,null,null,null,null,null,null,{"$f":"IFERROR(VLOOKUP(BF31,レコード!A:H,6,FALSE),\"\")","v":""},null,null,null,null,null,null,null,null,null,null,null,null,null,null,null,null,null,null,null,"44982梶本幸栄"]
[26,26,null,"日",{"$f":"IFERROR(VLOOKUP(BF32,レコード!A:H,8,FALSE),\"\")","v":""},null,null,null,null,null,null,null,null,null,null,null,null,null,null,null,null,null,null,null,null,null,{"$f":"IFERROR(VLOOKUP(BF32,レコード!A:H,5,FALSE),\"\")","v":""},null,null,null,null,null,null,null,null,null,null,{"$f":"IFERROR(VLOOKUP(BF32,レコード!A:H,6,FALSE),\"\")","v":""},null,null,null,null,null,null,null,null,null,null,null,null,null,null,null,null,null,null,null,"44983梶本幸栄"]
[27,{"$f":"IF(A$6>=A33,A33,\"\")","v":27},null,"月",{"$f":"IFERROR(VLOOKUP(BF33,レコード!A:H,8,FALSE),\"\")","v":""},null,null,null,null,null,null,null,null,null,null,null,null,null,null,null,null,null,null,null,null,null,{"$f":"IFERROR(VLOOKUP(BF33,レコード!A:H,5,FALSE),\"\")","v":""},null,null,null,null,null,null,null,null,null,null,{"$f":"IFERROR(VLOOKUP(BF33,レコード!A:H,6,FALSE),\"\")","v":""},null,null,null,null,null,null,null,null,null,null,null,null,null,null,null,null,null,null,null,"44984梶本幸栄"]
[28,{"$f":"IF(A$6>=A34,A34,\"\")","v":28},null,"火",{"$f":"IFERROR(VLOOKUP(BF34,レコード!A:H,8,FALSE),\"\")","v":""},null,null,null,null,null,null,null,null,null,null,null,null,null,null,null,null,null,null,null,null,null,{"$f":"IFERROR(VLOOKUP(BF34,レコード!A:H,5,FALSE),\"\")","v":""},null,null,null,null,null,null,null,null,null,null,{"$f":"IFERROR(VLOOKUP(BF34,レコード!A:H,6,FALSE),\"\")","v":""},null,null,null,null,null,null,null,null,null,null,null,null,null,null,null,null,null,null,null,"44985梶本幸栄"]
[29,{"$f":"IF(A$6>=A35,A35,\"\")","v":29},null,"水",{"$f":"IFERROR(VLOOKUP(BF35,レコード!A:H,8,FALSE),\"\")","v":""},null,null,null,null,null,null,null,null,null,null,null,null,null,null,null,null,null,null,null,null,null,{"$f":"IFERROR(VLOOKUP(BF35,レコード!A:H,5,FALSE),\"\")","v":""},null,null,null,null,null,null,null,null,null,null,{"$f":"IFERROR(VLOOKUP(BF35,レコード!A:H,6,FALSE),\"\")","v":""},null,null,null,null,null,null,null,null,null,null,null,null,null,null,null,null,null,null,null,"44986梶本幸栄"]
[30,{"$f":"IF(A$6>=A36,A36,\"\")","v":30},null,"木",{"$f":"IFERROR(VLOOKUP(BF36,レコード!A:H,8,FALSE),\"\")","v":""},null,null,null,null,null,null,null,null,null,null,null,null,null,null,null,null,null,null,null,null,null,{"$f":"IFERROR(VLOOKUP(BF36,レコード!A:H,5,FALSE),\"\")","v":""},null,null,null,null,null,null,null,null,null,null,{"$f":"IFERROR(VLOOKUP(BF36,レコード!A:H,6,FALSE),\"\")","v":""},null,null,null,null,null,null,null,null,null,null,null,null,null,null,null,null,null,null,null,"44987梶本幸栄"]
[31,{"$f":"IF(A$6>=A37,A37,\"\")","v":31},null,"金",{"$f":"IFERROR(VLOOKUP(BF37,レコード!A:H,8,FALSE),\"\")","v":""},null,null,null,null,null,null,null,null,null,null,null,null,null,null,null,null,null,null,null,null,null,{"$f":"IFERROR(VLOOKUP(BF37,レコード!A:H,5,FALSE),\"\")","v":""},null,null,null,null,null,null,null,null,null,null,{"$f":"IFERROR(VLOOKUP(BF37,レコード!A:H,6,FALSE),\"\")","v":""},null,null,null,null,null,null,null,null,null,null,null,null,null,null,null,null,null,null,null,"44988梶本幸栄"]

{"sheet":"全体記録 (2)","index":5,"n_rows":71,"n_cols":28,"rows_kept":71,"cut":false,"hidden":true,"merged":[[69,1,71,2],[69,4,71,4],[69,5,69,6],[69,7,71,7],[69,8,71,8],[70,5,71,6],[66,1,68,2],[66,4,68,4],[66,5,66,6],[66,7,68,7],[66,8,68,8],[67,5,68,6],[63,1,65,2],[63,4,65,4],[63,5,63,6],[63,7,65,7],[63,8,65,8],[64,5,65,6],[60,1,62,2],[60,4,62,4],[60,5,60,6],[60,7,62,7],[60,8,62,8],[61,5,62,6],[57,1,59,2],[57,4,59,4],[57,5,57,6],[57,7,59,7],[57,8,59,8],[58,5,59,6],[54,1,56,2],[54,4,56,4],[54,5,54,6],[54,7,56,7],[54,8,56,8],[55,5,56,6],[51,1,53,2],[51,4,53,4],[51,5,51,6],[51,7,53,7],[51,8,53,8],[52,5,53,6],[48,1,50,2],[48,4,50,4],[48,5,48,6],[48,7,50,7],[48,8,50,8],[49,5,50,6],[45,1,47,2],[45,4,47,4],[45,5,45,6],[45,7,47,7],[45,8,47,8],[46,5,47,6],[42,1,44,2],[42,4,44,4],[42,5,42,6],[42,7,44,7],[42,8,44,8],[43,5,44,6],[39,1,41,2],[39,4,41,4],[39,5,39,6],[39,7,41,7],[39,8,41,8],[40,5,41,6],[36,1,38,2],[36,4,38,4],[36,5,36,6],[36,7,38,7],[36,8,38,8],[37,5,38,6],[33,1,35,2],[33,4,35,4],[33,5,33,6],[33,7,35,7],[33,8,35,8],[34,5,35,6],[30,1,32,2],[30,4,32,4],[30,5,30,6],[30,7,32,7],[30,8,32,8],[31,5,32,6],[27,1,29,2],[27,4,29,4],[27,5,27,6],[27,7,29,7],[27,8,29,8],[28,5,29,6],[24,1,26,2],[24,4,26,4],[24,5,24,6],[24,7,26,7],[24,8,26,8],[25,5,26,6],[21,1,23,2],[21,4,23,4],[21,5,21,6],[21,7,23,7],[21,8,23,8],[22,5,23,6],[18,1,20,2],[18,4,20,4],[18,5,18,6],[18,7,20,7],[18,8,20,8],[19,5,20,6],[12,7,14,7],[12,8,14,8],[13,5,14,6],[15,1,17,2],[15,4,17,4],[15,5,15,6],[15,7,17,7],[15,8,17,8],[16,5,17,6],[8,1,9,1],[8,2,8,6],[9,2,9,6],[11,1,11,2],[11,4,11,6],[12,1,14,2],[12,4,14,4],[12,5,12,6],[0,1,0,8],[1,6,1,7],[3,4,3,5],[4,1,4,8],[5,2,5,6],[6,1,7,1],[6,2,6,6],[6,7,9,7],[6,8,9,8],[7,2,7,6]]}
[null,"支　援　記　録　(　全　体　）"]
[null,{"$f":"\"通所者数：　\"&\"　 \"&COUNTIF(L13:L60,1)&\"　名               欠席者数： 　\"&\"  \"&COUNTIF(L13:L60,2)+COUNTIF(L13:L60,3)&\"　名\"","v":"通所者数：　　 1　名               欠席者数： 　  0　名"},null,null,null,null,"2023-02-26",null,"月",{"$f":"\"自動　\"&LEFT(TEXT(G2,\"aaaa\"),1)","v":"自動　日"}]
[null,null,null,null,{"$f":"\"   (内欠席対応：  \"&\"\"&COUNTIF(L13:L60,3)&\"  名)\"","v":"   (内欠席対応：  0  名)"}]
[]
[null,"業務日誌"]
[null,null,"支援内容",null,null,null,null,"記録者","捺印",null,null,null,null,null,null,null,null,null,null,null,null,null,{"$f":"$G$2","v":"2023-02-26"},{"$f":"B13","v":"フルネーム"},{"$f":"F13","v":1.11111111111111E+42},{"$f":"F14","v":1.11111111111111E+25},{"$f":"L14","v":1},{"$f":"IF(AA6=1,\"通常\",IF(AA6=2,\"欠席\",IF(AA6=3,\"欠席対応\",\"\")))","v":"通常"}]
[null,"特記事項",null,null,null,null,null,null,null,null,null,null,null,null,null,null,null,null,null,null,null,null,{"$f":"$G$2","v":"2023-02-26"},{"$f":"B16","v":""},{"$f":"F16","v":22222222222},{"$f":"F17","v":2},{"$f":"L17","v":0},""]
[null,null,null,null,null,null,null,null,null,null,null,null,null,null,null,null,null,null,null,null,null,null,"2023-02-26",{"$f":"B19","v":""},{"$f":"F19","v":0},{"$f":"F20","v":0},{"$f":"L20","v":0},""]
[null,"連絡事項",null,null,null,null,null,null,null,null,null,null,null,null,null,null,null,null,null,null,null,null,"2023-02-26",{"$f":"B22","v":""},{"$f":"F22","v":0},{"$f":"F23","v":0},{"$f":"L23","v":0},""]
[null,null,null,null,null,null,null,null,null,null,null,null,null,null,null,null,null,null,null,null,null,null,"2023-02-26",{"$f":"B25","v":""},{"$f":"F25","v":0},{"$f":"F26","v":0},{"$f":"L26","v":0},""]
[null,null,null,null,null,null,null,null,null,null,null,null,null,null,null,null,null,null,null,null,null,null,"2023-02-26",{"$f":"B28","v":""},{"$f":"F28","v":0},{"$f":"F29","v":0},{"$f":"L29","v":0},""]
[null,"利用者名",null,"利用状況","考察",null,null,"記録者","捺印",null,"↓利用状況のチェックを外す場合",null,null,null,null,null,null,null,null,null,null,null,"2023-02-26",{"$f":"B31","v":""},{"$f":"F31","v":0},{"$f":"F32","v":0},{"$f":"L32","v":0},""]
[null,{"$f":"IFERROR(IF(HLOOKUP($I$2,予定表!$B$3:$F$79,2,FALSE)=\"\",\"\",HLOOKUP($I$2,予定表!$B$3:$F$79,2,FALSE)),\"\")","v":"フルネーム"},null,null,null,1.11111111111111E+42,null,null,null,null,null,null,null,null,null,null,null,null,null,null,null,null,"2023-02-26",{"$f":"B34","v":""},{"$f":"F34","v":0},{"$f":"F35","v":0},{"$f":"L35","v":0},""]
[null,null,null,null,null,1.11111111111111E+25,null,null,null,null,1,{"$f":"IF(B13=\"\",0,K14)","v":1},{"$f":"IF(N14=\"\",0,1)","v":1},{"$f":"IF(L14=1,B13,\"\")","v":"フルネーム"},{"$f":"IF(P14=\"\",0,1)","v":0},{"$f":"IF(L14=0,\"\",IF(L14=1,\"\",B13))","v":""},null,1,{"$f":"IFERROR(VLOOKUP(R14,$M$14:$N$71,2,FALSE),\"\")","v":"フルネーム"},null,1,{"$f":"IFERROR(VLOOKUP(U14,$O$14:$P$71,2,FALSE),\"\")","v":""},"2023-02-26",{"$f":"B37","v":""},{"$f":"F37","v":0},{"$f":"F38","v":0},{"$f":"L38","v":0},""]
[null,null,null,null,null,null,null,null,null,null,null,null,null,null,null,null,null,2,"",null,2,"","2023-02-26",{"$f":"B40","v":""},{"$f":"F40","v":0},{"$f":"F41","v":0},{"$f":"L41","v":0},""]
[null,{"$f":"IFERROR(IF(HLOOKUP($I$2,予定表!$B$3:$F$79,5,FALSE)=\"\",\"\",HLOOKUP($I$2,予定表!$B$3:$F$79,5,FALSE)),\"\")","v":""},null,null,null,22222222222,null,null,null,null,null,null,null,null,null,null,null,3,"",null,3,"","2023-02-26",{"$f":"B43","v":""},{"$f":"F43","v":0},{"$f":"F44","v":0},{"$f":"L44","v":0},""]
[null,null,null,null,null,2,null,null,null,null,1,{"$f":"IF(B16=\"\",0,K17)","v":0},{"$f":"IF(N17=\"\",M14,M14+1)","v":1},{"$f":"IF(L17=1,B16,\"\")","v":""},{"$f":"IF(P17=\"\",O14,O14+1)","v":0},{"$f":"IF(L17=0,\"\",IF(L17=1,\"\",B16))","v":""},null,4,"",null,4,"","2023-02-26",{"$f":"B46","v":""},{"$f":"F46","v":0},{"$f":"F47","v":0},{"$f":"L47","v":0},""]
[null,null,null,null,null,null,null,null,null,null,null,null,null,null,null,null,null,5,"",null,5,"","2023-02-26",{"$f":"B49","v":""},{"$f":"F49","v":0},{"$f":"F50","v":0},{"$f":"L50","v":0},""]
[null,{"$f":"IFERROR(IF(HLOOKUP($I$2,予定表!$B$3:$F$79,8,FALSE)=\"\",\"\",HLOOKUP($I$2,予定表!$B$3:$F$79,8,FALSE)),\"\")","v":""},null,null,null,null,null,null,null,null,null,null,null,null,null,null,null,6,"",null,6,"","2023-02-26",{"$f":"B52","v":""},{"$f":"F52","v":0},{"$f":"F53","v":0},{"$f":"L53","v":0},""]
[null,null,null,null,null,null,null,null,null,null,1,{"$f":"IF(B19=\"\",0,K20)","v":0},{"$f":"IF(N20=\"\",M17,M17+1)","v":1},{"$f":"IF(L20=1,B19,\"\")","v":""},{"$f":"IF(P20=\"\",O17,O17+1)","v":0},{"$f":"IF(L20=0,\"\",IF(L20=1,\"\",B19))","v":""},null,7,"",null,7,"","2023-02-26",{"$f":"B55","v":""},{"$f":"F55","v":0},{"$f":"F56","v":0},{"$f":"L56","v":0},""]
[null,null,null,null,null,null,null,null,null,null,null,null,null,null,null,null,null,8,"",null,8,"","2023-02-26",{"$f":"B58","v":""},{"$f":"F58","v":0},{"$f":"F59","v":0},{"$f":"L59","v":0},""]
[null,{"$f":"IFERROR(IF(HLOOKUP($I$2,予定表!$B$3:$F$79,11,FALSE)=\"\",\"\",HLOOKUP($I$2,予定表!$B$3:$F$79,11,FALSE)),\"\")","v":""},null,null,null,null,null,null,null,null,null,null,null,null,null,null,null,9,"",null,9,"","2023-02-26",{"$f":"B61","v":""},{"$f":"F61","v":0},{"$f":"F62","v":0},{"$f":"L62","v":0},""]
[null,null,null,null,null,null,null,null,null,null,1,{"$f":"IF(B22=\"\",0,K23)","v":0},{"$f":"IF(N23=\"\",M20,M20+1)","v":1},{"$f":"IF(L23=1,B22,\"\")","v":""},{"$f":"IF(P23=\"\",O20,O20+1)","v":0},{"$f":"IF(L23=0,\"\",IF(L23=1,\"\",B22))","v":""},null,10,"",null,10,"","2023-02-26",{"$f":"B64","v":""},{"$f":"F64","v":0},{"$f":"F65","v":0},{"$f":"L65","v":0},""]
[null,null,null,null,null,null,null,null,null,null,null,null,null,null,null,null,null,11,"",null,11,"","2023-02-26",{"$f":"B67","v":""},{"$f":"F67","v":0},{"$f":"F68","v":0},{"$f":"L68","v":0},""]
[null,{"$f":"IFERROR(IF(HLOOKUP($I$2,予定表!$B$3:$F$79,14,FALSE)=\"\",\"\",HLOOKUP($I$2,予定表!$B$3:$F$79,14,FALSE)),\"\")","v":""},null,null,null,null,null,null,null,null,null,null,null,null,null,null,null,12,"",null,12,"","2023-02-26",{"$f":"B70","v":""},{"$f":"F70","v":0},{"$f":"F71","v":0},{"$f":"L71","v":0},""]
[null,null,null,null,null,null,null,null,null,null,1,{"$f":"IF(B25=\"\",0,K26)","v":0},{"$f":"IF(N26=\"\",M23,M23+1)","v":1},{"$f":"IF(L26=1,B25,\"\")","v":""},{"$f":"IF(P26=\"\",O23,O23+1)","v":0},{"$f":"IF(L26=0,\"\",IF(L26=1,\"\",B25))","v":""},null,13,"",null,13,""]
[null,null,null,null,null,null,null,null,null,null,null,null,null,null,null,null,null,14,"",null,14,""]
[null,{"$f":"IFERROR(IF(HLOOKUP($I$2,予定表!$B$3:$F$79,17,FALSE)=\"\",\"\",HLOOKUP($I$2,予定表!$B$3:$F$79,17,FALSE)),\"\")","v":""},null,null,null,null,null,null,null,null,null,null,null,null,null,null,null,15,"",null,15,""]
[null,null,null,null,null,null,null,null,null,null,1,{"$f":"IF(B28=\"\",0,K29)","v":0},{"$f":"IF(N29=\"\",M26,M26+1)","v":1},{"$f":"IF(L29=1,B28,\"\")","v":""},{"$f":"IF(P29=\"\",O26,O26+1)","v":0},{"$f":"IF(L29=0,\"\",IF(L29=1,\"\",B28))","v":""},null,16,"",null,16,""]
[null,null,null,null,null,null,null,null,null,null,null,null,null,null,null,null,null,17,"",null,17,""]
[null,{"$f":"IFERROR(IF(HLOOKUP($I$2,予定表!$B$3:$F$79,20,FALSE)=\"\",\"\",HLOOKUP($I$2,予定表!$B$3:$F$79,20,FALSE)),\"\")","v":""},null,null,null,null,null,null,null,null,null,null,null,null,null,null,null,18,"",null,18,""]
[null,null,null,null,null,null,null,null,null,null,1,{"$f":"IF(B31=\"\",0,K32)","v":0},{"$f":"IF(N32=\"\",M29,M29+1)","v":1},{"$f":"IF(L32=1,B31,\"\")","v":""},{"$f":"IF(P32=\"\",O29,O29+1)","v":0},{"$f":"IF(L32=0,\"\",IF(L32=1,\"\",B31))","v":""},null,19,"",null,19,""]
[null,null,null,null,null,null,null,null,null,null,null,null,null,null,null,null,null,20,"",null,20,""]
[null,{"$f":"IFERROR(IF(HLOOKUP($I$2,予定表!$B$3:$F$79,23,FALSE)=\"\",\"\",HLOOKUP($I$2,予定表!$B$3:$F$79,23,FALSE)),\"\")","v":""}]
[null,null,null,null,null,null,null,null,null,null,1,{"$f":"IF(B34=\"\",0,K35)","v":0},{"$f":"IF(N35=\"\",M32,M32+1)","v":1},{"$f":"IF(L35=1,B34,\"\")","v":""},{"$f":"IF(P35=\"\",O32,O32+1)","v":0},{"$f":"IF(L35=0,\"\",IF(L35=1,\"\",B34))","v":""}]
[]
[null,{"$f":"IFERROR(IF(HLOOKUP($I$2,予定表!$B$3:$F$79,26,FALSE)=\"\",\"\",HLOOKUP($I$2,予定表!$B$3:$F$79,26,FALSE)),\"\")","v":""}]
[null,null,null,null,null,null,null,null,null,null,0,{"$f":"IF(B37=\"\",0,K38)","v":0},{"$f":"IF(N38=\"\",M35,M35+1)","v":1},{"$f":"IF(L38=1,B37,\"\")","v":""},{"$f":"IF(P38=\"\",O35,O35+1)","v":0},{"$f":"IF(L38=0,\"\",IF(L38=1,\"\",B37))","v":""}]
[]
[null,{"$f":"IFERROR(IF(HLOOKUP($I$2,予定表!$B$3:$F$79,29,FALSE)=\"\",\"\",HLOOKUP($I$2,予定表!$B$3:$F$79,29,FALSE)),\"\")","v":""}]
[null,null,null,null,null,null,null,null,null,null,0,{"$f":"IF(B40=\"\",0,K41)","v":0},{"$f":"IF(N41=\"\",M38,M38+1)","v":1},{"$f":"IF(L41=1,B40,\"\")","v":""},{"$f":"IF(P41=\"\",O38,O38+1)","v":0},{"$f":"IF(L41=0,\"\",IF(L41=1,\"\",B40))","v":""}]
[]
[null,{"$f":"IFERROR(IF(HLOOKUP($I$2,予定表!$B$3:$F$79,32,FALSE)=\"\",\"\",HLOOKUP($I$2,予定表!$B$3:$F$79,32,FALSE)),\"\")","v":""}]
[null,null,null,null,null,null,null,null,null,null,0,{"$f":"IF(B43=\"\",0,K44)","v":0},{"$f":"IF(N44=\"\",M41,M41+1)","v":1},{"$f":"IF(L44=1,B43,\"\")","v":""},{"$f":"IF(P44=\"\",O41,O41+1)","v":0},{"$f":"IF(L44=0,\"\",IF(L44=1,\"\",B43))","v":""}]
[]
[null,{"$f":"IFERROR(IF(HLOOKUP($I$2,予定表!$B$3:$F$79,35,FALSE)=\"\",\"\",HLOOKUP($I$2,予定表!$B$3:$F$79,35,FALSE)),\"\")","v":""}]
[null,null,null,null,null,null,null,null,null,null,0,{"$f":"IF(B46=\"\",0,K47)","v":0},{"$f":"IF(N47=\"\",M44,M44+1)","v":1},{"$f":"IF(L47=1,B46,\"\")","v":""},{"$f":"IF(P47=\"\",O44,O44+1)","v":0},{"$f":"IF(L47=0,\"\",IF(L47=1,\"\",B46))","v":""}]
[]
[null,{"$f":"IFERROR(IF(HLOOKUP($I$2,予定表!$B$3:$F$79,38,FALSE)=\"\",\"\",HLOOKUP($I$2,予定表!$B$3:$F$79,38,FALSE)),\"\")","v":""}]
[null,null,null,null,null,null,null,null,null,null,0,{"$f":"IF(B49=\"\",0,K50)","v":0},{"$f":"IF(N50=\"\",M47,M47+1)","v":1},{"$f":"IF(L50=1,B49,\"\")","v":""},{"$f":"IF(P50=\"\",O47,O47+1)","v":0},{"$f":"IF(L50=0,\"\",IF(L50=1,\"\",B49))","v":""}]
[]
[null,{"$f":"IFERROR(IF(HLOOKUP($I$2,予定表!$B$3:$F$79,41,FALSE)=\"\",\"\",HLOOKUP($I$2,予定表!$B$3:$F$79,41,FALSE)),\"\")","v":""}]
[null,null,null,null,null,null,null,null,null,null,0,{"$f":"IF(B52=\"\",0,K53)","v":0},{"$f":"IF(N53=\"\",M50,M50+1)","v":1},{"$f":"IF(L53=1,B52,\"\")","v":""},{"$f":"IF(P53=\"\",O50,O50+1)","v":0},{"$f":"IF(L53=0,\"\",IF(L53=1,\"\",B52))","v":""}]
[]
[null,{"$f":"IFERROR(IF(HLOOKUP($I$2,予定表!$B$3:$F$79,44,FALSE)=\"\",\"\",HLOOKUP($I$2,予定表!$B$3:$F$79,44,FALSE)),\"\")","v":""}]
[null,null,null,null,null,null,null,null,null,null,0,{"$f":"IF(B55=\"\",0,K56)","v":0},{"$f":"IF(N56=\"\",M53,M53+1)","v":1},{"$f":"IF(L56=1,B55,\"\")","v":""},{"$f":"IF(P56=\"\",O53,O53+1)","v":0},{"$f":"IF(L56=0,\"\",IF(L56=1,\"\",B55))","v":""}]
[]
[null,{"$f":"IFERROR(IF(HLOOKUP($I$2,予定表!$B$3:$F$79,47,FALSE)=\"\",\"\",HLOOKUP($I$2,予定表!$B$3:$F$79,47,FALSE)),\"\")","v":""}]
[null,null,null,null,null,null,null,null,null,null,0,{"$f":"IF(B58=\"\",0,K59)","v":0},{"$f":"IF(N59=\"\",M56,M56+1)","v":1},{"$f":"IF(L59=1,B58,\"\")","v":""},{"$f":"IF(P59=\"\",O56,O56+1)","v":0},{"$f":"IF(L59=0,\"\",IF(L59=1,\"\",B58))","v":""}]
[]
[null,{"$f":"IFERROR(IF(HLOOKUP($I$2,予定表!$B$3:$F$79,50,FALSE)=\"\",\"\",HLOOKUP($I$2,予定表!$B$3:$F$79,50,FALSE)),\"\")","v":""}]
[null,null,null,null,null,null,null,null,null,null,0,{"$f":"IF(B61=\"\",0,K62)","v":0},{"$f":"IF(N62=\"\",M59,M59+1)","v":1},{"$f":"IF(L62=1,B61,\"\")","v":""},{"$f":"IF(P62=\"\",O59,O59+1)","v":0},{"$f":"IF(L62=0,\"\",IF(L62=1,\"\",B61))","v":""}]
[]
[null,{"$f":"IFERROR(IF(HLOOKUP($I$2,予定表!$B$3:$F$79,53,FALSE)=\"\",\"\",HLOOKUP($I$2,予定表!$B$3:$F$79,53,FALSE)),\"\")","v":""}]
[null,null,null,null,null,null,null,null,null,null,0,{"$f":"IF(B64=\"\",0,K65)","v":0},{"$f":"IF(N65=\"\",M62,M62+1)","v":1},{"$f":"IF(L65=1,B64,\"\")","v":""},{"$f":"IF(P65=\"\",O62,O62+1)","v":0},{"$f":"IF(L65=0,\"\",IF(L65=1,\"\",B64))","v":""}]
[]
[null,{"$f":"IFERROR(IF(HLOOKUP($I$2,予定表!$B$3:$F$79,56,FALSE)=\"\",\"\",HLOOKUP($I$2,予定表!$B$3:$F$79,56,FALSE)),\"\")","v":""}]
[null,null,null,null,null,null,null,null,null,null,0,{"$f":"IF(B67=\"\",0,K68)","v":0},{"$f":"IF(N68=\"\",M65,M65+1)","v":1},{"$f":"IF(L68=1,B67,\"\")","v":""},{"$f":"IF(P68=\"\",O65,O65+1)","v":0},{"$f":"IF(L68=0,\"\",IF(L68=1,\"\",B67))","v":""}]
[]
[null,{"$f":"IFERROR(IF(HLOOKUP($I$2,予定表!$B$3:$F$79,59,FALSE)=\"\",\"\",HLOOKUP($I$2,予定表!$B$3:$F$79,59,FALSE)),\"\")","v":""}]
[null,null,null,null,null,null,null,null,null,null,0,{"$f":"IF(B70=\"\",0,K71)","v":0},{"$f":"IF(N71=\"\",M68,M68+1)","v":1},{"$f":"IF(L71=1,B70,\"\")","v":""},{"$f":"IF(P71=\"\",O68,O68+1)","v":0},{"$f":"IF(L71=0,\"\",IF(L71=1,\"\",B70))","v":""}]